BEGIN:VCALENDAR
VERSION:2.0
PRODID:-//Waikato Guild Of Woodworkers - ECPv6.0.13.1//NONSGML v1.0//EN
CALSCALE:GREGORIAN
METHOD:PUBLISH
X-WR-CALNAME:Waikato Guild Of Woodworkers
X-ORIGINAL-URL:https://woodworkersguild.org.nz
X-WR-CALDESC:Events for Waikato Guild Of Woodworkers
REFRESH-INTERVAL;VALUE=DURATION:PT1H
X-Robots-Tag:noindex
X-PUBLISHED-TTL:PT1H
BEGIN:VTIMEZONE
TZID:Pacific/Auckland
BEGIN:STANDARD
TZOFFSETFROM:+1300
TZOFFSETTO:+1200
TZNAME:NZST
DTSTART:20200404T140000
END:STANDARD
BEGIN:DAYLIGHT
TZOFFSETFROM:+1200
TZOFFSETTO:+1300
TZNAME:NZDT
DTSTART:20200926T140000
END:DAYLIGHT
END:VTIMEZONE
BEGIN:VEVENT
DTSTART;TZID=Pacific/Auckland:20200317T190000
DTEND;TZID=Pacific/Auckland:20200317T210000
DTSTAMP:20260420T225525
CREATED:20200303T101010Z
LAST-MODIFIED:20200303T101010Z
UID:280-1584471600-1584478800@woodworkersguild.org.nz
SUMMARY:Demonstration of Chair Making
DESCRIPTION:Three of our most experienced members\, Lenard Helm\, Dave Watson\, and Keith Lang\, will be showing us some of their approaches to chair making. This will be an opportunity learn some new skills in a very ancient craft.
URL:https://woodworkersguild.org.nz/event/demonstration-of-chair-making/
LOCATION:Wood Workers Guild Hall\, 8 Story Ave\, Hamilton\, New Zealand
END:VEVENT
END:VCALENDAR