BEGIN:VCALENDAR
VERSION:2.0
PRODID:-//Waikato Guild Of Woodworkers - ECPv6.0.13.1//NONSGML v1.0//EN
CALSCALE:GREGORIAN
METHOD:PUBLISH
X-WR-CALNAME:Waikato Guild Of Woodworkers
X-ORIGINAL-URL:https://woodworkersguild.org.nz
X-WR-CALDESC:Events for Waikato Guild Of Woodworkers
REFRESH-INTERVAL;VALUE=DURATION:PT1H
X-Robots-Tag:noindex
X-PUBLISHED-TTL:PT1H
BEGIN:VTIMEZONE
TZID:Pacific/Auckland
BEGIN:STANDARD
TZOFFSETFROM:+1300
TZOFFSETTO:+1200
TZNAME:NZST
DTSTART:20200404T140000
END:STANDARD
BEGIN:DAYLIGHT
TZOFFSETFROM:+1200
TZOFFSETTO:+1300
TZNAME:NZDT
DTSTART:20200926T140000
END:DAYLIGHT
END:VTIMEZONE
BEGIN:VEVENT
DTSTART;VALUE=DATE:20200501
DTEND;VALUE=DATE:20200601
DTSTAMP:20260420T184739
CREATED:20200316T013844Z
LAST-MODIFIED:20200709T041221Z
UID:312-1588291200-1590969599@woodworkersguild.org.nz
SUMMARY:Neil Joynt Tour
DESCRIPTION:This is the early information we have for Neil Joynts tour in MAY 2020. When the dates and schedule are fixed then this page will be updated. \nMore info can be found here: https://naw.org.nz/event/neil-joynt-tour/
URL:https://woodworkersguild.org.nz/event/neil-joynt-tour/
END:VEVENT
END:VCALENDAR