BEGIN:VCALENDAR
VERSION:2.0
PRODID:-//Waikato Guild Of Woodworkers - ECPv6.0.13.1//NONSGML v1.0//EN
CALSCALE:GREGORIAN
METHOD:PUBLISH
X-WR-CALNAME:Waikato Guild Of Woodworkers
X-ORIGINAL-URL:https://woodworkersguild.org.nz
X-WR-CALDESC:Events for Waikato Guild Of Woodworkers
REFRESH-INTERVAL;VALUE=DURATION:PT1H
X-Robots-Tag:noindex
X-PUBLISHED-TTL:PT1H
BEGIN:VTIMEZONE
TZID:Pacific/Auckland
BEGIN:STANDARD
TZOFFSETFROM:+1300
TZOFFSETTO:+1200
TZNAME:NZST
DTSTART:20200404T140000
END:STANDARD
BEGIN:DAYLIGHT
TZOFFSETFROM:+1200
TZOFFSETTO:+1300
TZNAME:NZDT
DTSTART:20200926T140000
END:DAYLIGHT
END:VTIMEZONE
BEGIN:VEVENT
DTSTART;TZID=Pacific/Auckland:20200616T190000
DTEND;TZID=Pacific/Auckland:20200616T210000
DTSTAMP:20260420T172822
CREATED:20200519T040754Z
LAST-MODIFIED:20200613T011034Z
UID:721-1592334000-1592341200@woodworkersguild.org.nz
SUMMARY:June Monthly Meeting
DESCRIPTION:We will hold our monthly Guild meeting as usual on the third Tuesday of the month. Due to the  restrictions on numbers required by level 2 we decided not to have a visiting demonstration in case we had to postpone. \nInstead\,  there will be an informal discussion and presentation of members work done during lockdown. Please bring an example and share your experience with us. \nTo encourage a friendly atmosphere for the evening please bring a plate. \n  \n  \n 
URL:https://woodworkersguild.org.nz/event/june-monthly-meeting/
LOCATION:Wood Workers Guild Hall\, 8 Story Ave\, Hamilton\, New Zealand
ORGANIZER;CN="Grant%20Taylor":MAILTO:gctaylor@glenmarie.nz
END:VEVENT
END:VCALENDAR