BEGIN:VCALENDAR
VERSION:2.0
PRODID:-//Waikato Guild Of Woodworkers - ECPv6.0.13.1//NONSGML v1.0//EN
CALSCALE:GREGORIAN
METHOD:PUBLISH
X-WR-CALNAME:Waikato Guild Of Woodworkers
X-ORIGINAL-URL:https://woodworkersguild.org.nz
X-WR-CALDESC:Events for Waikato Guild Of Woodworkers
REFRESH-INTERVAL;VALUE=DURATION:PT1H
X-Robots-Tag:noindex
X-PUBLISHED-TTL:PT1H
BEGIN:VTIMEZONE
TZID:Pacific/Auckland
BEGIN:STANDARD
TZOFFSETFROM:+1300
TZOFFSETTO:+1200
TZNAME:NZST
DTSTART:20200404T140000
END:STANDARD
BEGIN:DAYLIGHT
TZOFFSETFROM:+1200
TZOFFSETTO:+1300
TZNAME:NZDT
DTSTART:20200926T140000
END:DAYLIGHT
END:VTIMEZONE
BEGIN:VEVENT
DTSTART;TZID=Pacific/Auckland:20200725T090000
DTEND;TZID=Pacific/Auckland:20200725T120000
DTSTAMP:20260420T160104
CREATED:20200615T031134Z
LAST-MODIFIED:20200715T113807Z
UID:790-1595667600-1595678400@woodworkersguild.org.nz
SUMMARY:Open Shed Day
DESCRIPTION:\,We are having a open shed day on the Saturday of 25th July for you to visit at your leisure. \nThe following people are opening their sheds – \nDavid Croucher\, 8 Ayrshire Drive8 Ayrshire Drive\, Grandview Heights\, Hamilton 3200\, Grandview Heights\, Hamilton 3200 \nRodney Haynes\, 27 Cullimore Street\, Pukete\, Hamilton 3200 \nBob Hoyle\, 18B Highgrove Drive\, Grandview Heights\, Hamilton 3200 \nBarry O’Donnell\, 229C Baverstock Road\, Nawton\, Hamilton 3289 \nWalter Smithson\, 16 Ruby Court\, Chartwell\, Hamilton 3210 \nGrant Taylor\, 371 Piako Road\, Gordonton\, (between Gordonton and Morrinsville) \n  \n 
URL:https://woodworkersguild.org.nz/event/open-shed-day/
ORGANIZER;CN="Rodney%20Hayes":MAILTO:rodtom@xtra.co.nz
END:VEVENT
END:VCALENDAR