BEGIN:VCALENDAR
VERSION:2.0
PRODID:-//Waikato Guild Of Woodworkers - ECPv6.0.13.1//NONSGML v1.0//EN
CALSCALE:GREGORIAN
METHOD:PUBLISH
X-WR-CALNAME:Waikato Guild Of Woodworkers
X-ORIGINAL-URL:https://woodworkersguild.org.nz
X-WR-CALDESC:Events for Waikato Guild Of Woodworkers
REFRESH-INTERVAL;VALUE=DURATION:PT1H
X-Robots-Tag:noindex
X-PUBLISHED-TTL:PT1H
BEGIN:VTIMEZONE
TZID:Pacific/Auckland
BEGIN:STANDARD
TZOFFSETFROM:+1300
TZOFFSETTO:+1200
TZNAME:NZST
DTSTART:20200404T140000
END:STANDARD
BEGIN:DAYLIGHT
TZOFFSETFROM:+1200
TZOFFSETTO:+1300
TZNAME:NZDT
DTSTART:20200926T140000
END:DAYLIGHT
END:VTIMEZONE
BEGIN:VEVENT
DTSTART;TZID=Pacific/Auckland:20201003T130000
DTEND;TZID=Pacific/Auckland:20201003T150000
DTSTAMP:20260420T110340
CREATED:20200227T224825Z
LAST-MODIFIED:20200928T040733Z
UID:197-1601730000-1601737200@woodworkersguild.org.nz
SUMMARY:Taupo Jamboree
DESCRIPTION:Support person ( Angela\, club treasurer) simplybooks@gmail.com\nMob 0211590915 \nAccommadation @ the Blue Light lodge \nRegistrations are out on January Friday 31st January 2020
URL:https://woodworkersguild.org.nz/event/taupo-jamboree/
ORGANIZER;CN="Ray%20Philips":MAILTO:phillips1602@gmail.com
END:VEVENT
END:VCALENDAR