BEGIN:VCALENDAR
VERSION:2.0
PRODID:-//Waikato Guild Of Woodworkers - ECPv6.0.13.1//NONSGML v1.0//EN
CALSCALE:GREGORIAN
METHOD:PUBLISH
X-ORIGINAL-URL:https://woodworkersguild.org.nz
X-WR-CALDESC:Events for Waikato Guild Of Woodworkers
REFRESH-INTERVAL;VALUE=DURATION:PT1H
X-Robots-Tag:noindex
X-PUBLISHED-TTL:PT1H
BEGIN:VTIMEZONE
TZID:Pacific/Auckland
BEGIN:STANDARD
TZOFFSETFROM:+1300
TZOFFSETTO:+1200
TZNAME:NZST
DTSTART:20200404T140000
END:STANDARD
BEGIN:DAYLIGHT
TZOFFSETFROM:+1200
TZOFFSETTO:+1300
TZNAME:NZDT
DTSTART:20200926T140000
END:DAYLIGHT
END:VTIMEZONE
BEGIN:VEVENT
DTSTART;TZID=Pacific/Auckland:20201020T190000
DTEND;TZID=Pacific/Auckland:20201020T210000
DTSTAMP:20260420T110538
CREATED:20200930T033813Z
LAST-MODIFIED:20200930T033822Z
UID:1154-1603220400-1603227600@woodworkersguild.org.nz
SUMMARY:October Club Meeting
DESCRIPTION:As noted  in Grant’s letter\, we will be able to view some of the stories and photos that Diego Ribeiro and our interviewers have been making over past months. \n  \nIt will be a very special night to celebrate our members and their contribution to our club over many years.
URL:https://woodworkersguild.org.nz/event/october-club-meeting/
LOCATION:Wood Workers Guild Hall\, 8 Story Ave\, Hamilton\, New Zealand
END:VEVENT
END:VCALENDAR