BEGIN:VCALENDAR
VERSION:2.0
PRODID:-//Waikato Guild Of Woodworkers - ECPv6.0.13.1//NONSGML v1.0//EN
CALSCALE:GREGORIAN
METHOD:PUBLISH
X-WR-CALNAME:Waikato Guild Of Woodworkers
X-ORIGINAL-URL:https://woodworkersguild.org.nz
X-WR-CALDESC:Events for Waikato Guild Of Woodworkers
REFRESH-INTERVAL;VALUE=DURATION:PT1H
X-Robots-Tag:noindex
X-PUBLISHED-TTL:PT1H
BEGIN:VTIMEZONE
TZID:Pacific/Auckland
BEGIN:STANDARD
TZOFFSETFROM:+1300
TZOFFSETTO:+1200
TZNAME:NZST
DTSTART:20200404T140000
END:STANDARD
BEGIN:DAYLIGHT
TZOFFSETFROM:+1200
TZOFFSETTO:+1300
TZNAME:NZDT
DTSTART:20200926T140000
END:DAYLIGHT
END:VTIMEZONE
BEGIN:VEVENT
DTSTART;TZID=Pacific/Auckland:20201031T110000
DTEND;TZID=Pacific/Auckland:20201031T150000
DTSTAMP:20260420T093047
CREATED:20201004T052221Z
LAST-MODIFIED:20201004T052221Z
UID:1216-1604142000-1604156400@woodworkersguild.org.nz
SUMMARY:30 Year celebration
DESCRIPTION:Celebrating 30 years!\nThere are some wonderful stories within our past and present membership\, please join us to hear some of these. You will see some of our favorite projects completed over the last 30 years\, meet up with past and present members and talk over some of the events you remember together. \nBring along your own favorite piece to add to our display table. If you have any archived photos of your time in the Guild\, please bring those with you as well. \nWe are catering lunch\, and would appreciate knowing if you can be there with us. Please let us know if you can join us at the wonderful celebration by 16th of October. \n			\n			\n				\n				\n				\n				\n				\n				\n				\n					\n					\n					\n				\n				\n				\n				\n					\n					\n					\n				\n				Scroll sawing
URL:https://woodworkersguild.org.nz/event/30-year-celebration/
LOCATION:Wood Workers Guild Hall\, 8 Story Ave\, Hamilton\, New Zealand
ORGANIZER;CN="Lenard%20Helms":MAILTO:lhelms@orcon.net.nz
END:VEVENT
END:VCALENDAR