BEGIN:VCALENDAR
VERSION:2.0
PRODID:-//Waikato Guild Of Woodworkers - ECPv6.0.13.1//NONSGML v1.0//EN
CALSCALE:GREGORIAN
METHOD:PUBLISH
X-WR-CALNAME:Waikato Guild Of Woodworkers
X-ORIGINAL-URL:https://woodworkersguild.org.nz
X-WR-CALDESC:Events for Waikato Guild Of Woodworkers
REFRESH-INTERVAL;VALUE=DURATION:PT1H
X-Robots-Tag:noindex
X-PUBLISHED-TTL:PT1H
BEGIN:VTIMEZONE
TZID:Pacific/Auckland
BEGIN:STANDARD
TZOFFSETFROM:+1300
TZOFFSETTO:+1200
TZNAME:NZST
DTSTART:20200404T140000
END:STANDARD
BEGIN:DAYLIGHT
TZOFFSETFROM:+1200
TZOFFSETTO:+1300
TZNAME:NZDT
DTSTART:20200926T140000
END:DAYLIGHT
END:VTIMEZONE
BEGIN:VEVENT
DTSTART;TZID=Pacific/Auckland:20201117T190000
DTEND;TZID=Pacific/Auckland:20201117T210000
DTSTAMP:20260420T075125
CREATED:20201101T231910Z
LAST-MODIFIED:20201102T002939Z
UID:1359-1605639600-1605646800@woodworkersguild.org.nz
SUMMARY:Annual General Meeting
DESCRIPTION:Annual General Meeting \nHere is an advance notice of our AGM to be held on Tuesday\, November 17th 2020. Your committee has been reduced in numbers over the last little while and would like you to consider taking up a role on the committee\, supporting your club members. We understand that a few of the committee have decided not to stand again and some of the office holders will change. If you have talked about helping or want to put yourself forward or nominate someone else please contact. We would also like help in some of the supplementary roles\, if this appeals to you please contact a committee member. \nThank you for your annual membership sub for this last year\, they are due once again after the November AGM. \n			\n			\n				\n				\n				\n				\n				\n				\n				\n				\n				\n				\n			\n				\n				\n				\n				\n				 The October monthly challenge:to make a hollow form that will hold a stone inside. \nSee the example above.
URL:https://woodworkersguild.org.nz/event/annual-general-meeting/
LOCATION:Wood Workers Guild Hall\, 8 Story Ave\, Hamilton\, New Zealand
END:VEVENT
END:VCALENDAR